BEGIN:VCALENDAR
VERSION:2.0
PRODID:-//Tukios.com/
BEGIN:VEVENT
UID:60405820-979a-4d94-8795-b04eac87f544@www.waltersfuneraldirectorsinc.com
DTSTAMP:20260425T181138Z
DTSTART:20260427T150000Z
DTEND:20260427T160000Z
SUMMARY:Visitation
DESCRIPTION:
URL:https://www.waltersfuneraldirectorsinc.com/obituaries/carol-jones-gimler
LOCATION: 1419 Texas 7  Centerville TX 75833
GEO:31.2636608;-95.9560471
END:VEVENT
END:VCALENDAR