BEGIN:VCALENDAR
VERSION:2.0
PRODID:-//Tukios.com/
BEGIN:VEVENT
UID:82a34f0b-7ec8-4527-95b7-9c70fd79769e@www.waltersfuneraldirectorsinc.com
DTSTAMP:20260425T181328Z
DTSTART:20260427T160000Z
DTEND:20260427T173000Z
SUMMARY:Funeral Service
DESCRIPTION:
URL:https://www.waltersfuneraldirectorsinc.com/obituaries/carol-jones-gimler
LOCATION: 1419 Texas 7  Centerville TX 75833
GEO:31.2636608;-95.9560471
END:VEVENT
END:VCALENDAR