BEGIN:VCALENDAR
VERSION:2.0
PRODID:-//Tukios.com/
BEGIN:VEVENT
UID:3c214267-5f40-41db-82b4-3d8b5327a690@www.waltersfuneraldirectorsinc.com
DTSTAMP:20260425T181119Z
DTSTART:20260427
SUMMARY:Burial
DESCRIPTION:
URL:https://www.waltersfuneraldirectorsinc.com/obituaries/carol-jones-gimler
LOCATION: Carrington St.  Centerville TX 75833
GEO:31.2612327;-95.9793461
END:VEVENT
END:VCALENDAR