BEGIN:VCALENDAR
VERSION:2.0
PRODID:-//Tukios.com/
BEGIN:VEVENT
UID:002aa758-f58e-43ac-add5-b24ca75a7166@www.waltersfuneraldirectorsinc.com
DTSTAMP:20260423T020040Z
DTSTART:20260424T230000Z
DTEND:20260425T010000Z
SUMMARY:Visitation
DESCRIPTION:
URL:https://www.waltersfuneraldirectorsinc.com/obituaries/welton-ellison
LOCATION: 610 S Commerce St  Centerville TX 75833
GEO:31.2543922;-95.978342
END:VEVENT
END:VCALENDAR