BEGIN:VCALENDAR
VERSION:2.0
PRODID:-//Tukios.com/
BEGIN:VEVENT
UID:369eff02-fc2e-43b4-87f6-fde57e872aeb@www.waltersfuneraldirectorsinc.com
DTSTAMP:20260423T015232Z
DTSTART:20260425T160000Z
DTEND:20260425T173000Z
SUMMARY:Funeral Service
DESCRIPTION:
URL:https://www.waltersfuneraldirectorsinc.com/obituaries/welton-ellison
LOCATION: 610 S Commerce St  Centerville TX 75833
GEO:31.2543922;-95.978342
END:VEVENT
END:VCALENDAR