BEGIN:VCALENDAR
VERSION:2.0
PRODID:-//Tukios.com/
BEGIN:VEVENT
UID:4d1a8be1-1869-46a6-b74e-9e46b5a9b024@www.waltersfuneraldirectorsinc.com
DTSTAMP:20260423T020040Z
DTSTART:20260425
SUMMARY:Burial
DESCRIPTION:
URL:https://www.waltersfuneraldirectorsinc.com/obituaries/welton-ellison
LOCATION: 6205 County Road 428  Marquez TX 77865
GEO:31.181835;-96.1740217
END:VEVENT
END:VCALENDAR